BEGIN:VCALENDAR
VERSION:2.0
METHOD:PUBLISH
BEGIN:VEVENT
DTSTART:20251206T150000Z
DTEND:20251206T170000Z
LOCATION:1610 Fort Fisher Blvd S 1610 Fort Fisher Boulevard South Kure Beach NC 28449 
TRANSP: OPAQUE
SEQUENCE:0
UID:
DTSTAMP:20260425T104929Z
SUMMARY:Fort Fisher Photo Shoot
DESCRIPTION:I’m organizing a photoshoot for the Carolina Garrison of the 501st Legion, along with our sister clubs — Rebel Legion, Mandalorian Mercs, Dark Empire, Saber Guild, and Droid Builders.

We’ll be holding it at Fort Fisher, taking advantage of their brand new visitor center, which has an aesthetic that feels very much in-universe for Star Wars, as well as the historic battlements and walls around the site.

Please keep in mind that once I commit to a photographer, the full cost becomes locked in. If someone backs out, does not pay in advance, or does not show up, I am left covering that portion of the cost. For that reason, I need to get an idea of serious interest only so I can gauge numbers and finalize a plan.

If you’re interested and able to commit in that price range, please comment or message me so I can get a headcount. More details, including the exact date and time, will follow once I have a clear picture of the level of interest.

Looking forward to seeing what we can put together — this setting should make for an incredible backdrop for everyone’s costumes.

Edit: I am paying for the photographers so just show up in costume and get some awesome pictures.
PRIORITY:1
CLASS:PUBLIC
BEGIN:VALARM
TRIGGER:-PT10080M
ACTION:DISPLAY
DESCRIPTION:Reminder
END:VALARM
END:VEVENT
END:VCALENDAR
