BEGIN:VCALENDAR
VERSION:2.0
METHOD:PUBLISH
BEGIN:VEVENT
DTSTART:20251022T211500Z
DTEND:20251023T000000Z
LOCATION:100 Aquarium Wharf 100 Aquarium Wharf Charleston SC 29401 
TRANSP: OPAQUE
SEQUENCE:0
UID:
DTSTAMP:20260425T104244Z
SUMMARY:Fish Or Treat
DESCRIPTION: A family friendly Halloween party for Aquarium visitors
You've attended this event in the past, and it's always a big hit!
PRIORITY:1
CLASS:PUBLIC
BEGIN:VALARM
TRIGGER:-PT10080M
ACTION:DISPLAY
DESCRIPTION:Reminder
END:VALARM
END:VEVENT
END:VCALENDAR
