BEGIN:VCALENDAR
VERSION:2.0
METHOD:PUBLISH
BEGIN:VEVENT
DTSTART:20251205T223000Z
DTEND:20251206T020000Z
LOCATION:North Elm Street  North Elm Street Greensboro NC  
TRANSP: OPAQUE
SEQUENCE:0
UID:
DTSTAMP:20260424T132044Z
SUMMARY:Festival of Lights & Parade 2025
DESCRIPTION:Free holiday-themed community event.
Friday night is the festival; Saturday afternoon is the parade.

Address TBD

Parade info: https://www.downtowngreensboro.org/events/downtown-in-december-event/holiday-parade/
PRIORITY:1
CLASS:PUBLIC
BEGIN:VALARM
TRIGGER:-PT10080M
ACTION:DISPLAY
DESCRIPTION:Reminder
END:VALARM
END:VEVENT
END:VCALENDAR
