BEGIN:VCALENDAR
VERSION:2.0
METHOD:PUBLISH
BEGIN:VEVENT
DTSTART:20250921T170000Z
DTEND:20250921T210000Z
LOCATION:301 W Main St 301 West Main Street Carrboro NC 27510 
TRANSP: OPAQUE
SEQUENCE:0
UID:
DTSTAMP:20260425T104909Z
SUMMARY:Festival of Hope 2025
DESCRIPTION:Venue:  Carrboro Town Commons

CPALS is partnered with UNC-Hospitals Hematology-Oncology Clinic to provide support to previous and current patients, their families, and healthcare workers. More specifically, the Festival of Hope is an event that CPALS plans to provide the patients, families, and healthcare workers within the clinic with a day outside of the four hospital walls that consume most of their time while receiving treatment. This event enables patients and their families to participate in various arts and crafts activities, carnival-style games and sports, and photo booths, while also interacting with special members/organizations from the surrounding Chapel Hill community.
PRIORITY:1
CLASS:PUBLIC
BEGIN:VALARM
TRIGGER:-PT10080M
ACTION:DISPLAY
DESCRIPTION:Reminder
END:VALARM
END:VEVENT
END:VCALENDAR
