BEGIN:VCALENDAR
VERSION:2.0
METHOD:PUBLISH
BEGIN:VEVENT
DTSTART:20260404T194500Z
DTEND:20260404T233000Z
LOCATION:1960 Coliseum Dr 1960 Coliseum Drive Fayetteville NC 28306 
TRANSP: OPAQUE
SEQUENCE:0
UID:
DTSTAMP:20260423T084927Z
SUMMARY:Fayetteville Marksmen Star Wars Night 2026 - Rescheduled
DESCRIPTION:This was a rescheduled event due to weather.

Please Note: This is an official LFL event.  

LFL events are handled differently than other events.  In order to ensure that we adhere to all LFL rules and guidelines, ONLY sign up here if you plan to attend in an approved 501st costume.  If you will be wearing a costume from another organization, sign up with that organization so that we can plan for limited numbers and ensure that all are trooping with an approved costume. Feel free to leave a comment if you are planning on attending under a different organization. 
Thank you

Fayetteville Marksmen Star Wars Night 2026
Location: Crown Coliseum - 1960 Coliseum Drive, Fayetteville, NC 28306
Parking location and details: All participants may park in the North VIP Parking Lot, in front of the Main Entrance to the Coliseum.

Event date: April 4, 2026

Event start time & approx. end time: 6:00-7:30pm

Call time: 3:45 (Doors at 4:45)

Changing room details: Men's and women's changing rooms will be available on the arena level.

Maximum number invited: No limit, I know in past seasons there have been around 15 or so characters here.

RSVP by date: Monday, March 30, 2026
PRIORITY:1
CLASS:PUBLIC
BEGIN:VALARM
TRIGGER:-PT10080M
ACTION:DISPLAY
DESCRIPTION:Reminder
END:VALARM
END:VEVENT
END:VCALENDAR
