BEGIN:VCALENDAR
VERSION:2.0
METHOD:PUBLISH
BEGIN:VEVENT
DTSTART:20241005T150000Z
DTEND:20241005T220000Z
LOCATION:101 Blair Dr 101 Blair Drive Raleigh NC 27603 
TRANSP: OPAQUE
SEQUENCE:0
UID:
DTSTAMP:20260425T104122Z
SUMMARY:Falling for Local
DESCRIPTION:***DUE TO NO SIGN UPS,  REGRETS LETTER SENT 02Oct24***


This family friendly event is FREE to attend and open to the public complete with live music, local craft beer & ciders, local & independent vendors, food trucks, food tents, hay rides, games, inflatables, art, photo ops – something for everyone!!
PRIORITY:1
CLASS:PUBLIC
BEGIN:VALARM
TRIGGER:-PT10080M
ACTION:DISPLAY
DESCRIPTION:Reminder
END:VALARM
END:VEVENT
END:VCALENDAR
