BEGIN:VCALENDAR
VERSION:2.0
METHOD:PUBLISH
BEGIN:VEVENT
DTSTART:20250913T140000Z
DTEND:20250913T210000Z
LOCATION:601 W 3rd St 601 West 3rd Street Wendell NC 27591 
TRANSP: OPAQUE
SEQUENCE:0
UID:
DTSTAMP:20260425T104146Z
SUMMARY:Epic Mighty Con 2025
DESCRIPTION:We’re giving you guys a very nice booth location (15x15 up front next to door, across from ticket sales)!

We have a secure area to change and we will provide water and snacks, we did this last year with you guys had a awesome time and you guys did the ceremonial entrance as we played the imperial March and Darth Vader lead in the professional to have our grand opening! 

This is our third annual super excited about having you guys back!

The Carolina Garrison will be helping out with Star Wars Dr. Aphra's Allyson Wong's panel at 12 PM EST, in some way.  Looks to be both escorting her and helping participate in the panel.  More details to come.
PRIORITY:1
CLASS:PUBLIC
BEGIN:VALARM
TRIGGER:-PT10080M
ACTION:DISPLAY
DESCRIPTION:Reminder
END:VALARM
END:VEVENT
END:VCALENDAR
