BEGIN:VCALENDAR
VERSION:2.0
METHOD:PUBLISH
BEGIN:VEVENT
DTSTART:20250330T140000Z
DTEND:20250330T200000Z
LOCATION:Greensboro-High Point Marriott Airport One Marriott Drive Greensboro NC 27409 
TRANSP: OPAQUE
SEQUENCE:0
UID:
DTSTAMP:20260426T005140Z
SUMMARY:Eastgate Comic Con Spring 2025
DESCRIPTION:Venue:  Greensboro Airport Marriott

Comic and Pop Culture event with Cosplay and food truck vendors.

5 Total Spots - 3 CG / 2 RL. 

25Mar2025 EDIT:  Chris Casino confirmed BRB has no signups hence we have all 5 spots for our members to fill.  Thanks.
PRIORITY:1
CLASS:PUBLIC
BEGIN:VALARM
TRIGGER:-PT10080M
ACTION:DISPLAY
DESCRIPTION:Reminder
END:VALARM
END:VEVENT
END:VCALENDAR
