BEGIN:VCALENDAR
VERSION:2.0
METHOD:PUBLISH
BEGIN:VEVENT
DTSTART:20260227T160000Z
DTEND:20260227T180000Z
LOCATION:2301 Erwin Rd 2301 Erwin Road Durham NC 27705 
TRANSP: OPAQUE
SEQUENCE:0
UID:
DTSTAMP:20260425T105046Z
SUMMARY:Duke Children's Hospital Visit Feb 2026
DESCRIPTION:On the day of the visit, it’s best to take your parking entry ticket with you, as the parking pay station is located at the entrance of the garage (they take cash and cards). You will park in parking garage 2, which is closest to the entrance where we will meet. It is located at the corner of Fulton Street and Erwin Road. You can walk across the street to get to the entrance of the Children’s Health Center, which will be the first entrance on the left. 
Give me a call when you park and I will make my way to the Children’s Health Center entrance. 
Upon entering the building, each person will need to go through our Weapon’s Detection System. 
Let’s plan to meet at 10am at the entrance. 
Please let me know if you have additional questions. We are so excited for the upcoming visit, thank you!
PRIORITY:1
CLASS:PUBLIC
BEGIN:VALARM
TRIGGER:-PT10080M
ACTION:DISPLAY
DESCRIPTION:Reminder
END:VALARM
END:VEVENT
END:VCALENDAR
