BEGIN:VCALENDAR
VERSION:2.0
METHOD:PUBLISH
BEGIN:VEVENT
DTSTART:20260515T210000Z
DTEND:20260516T000000Z
LOCATION:400 E Grainger Ave 400 East Grainger Avenue Kinston NC 28501 
TRANSP: OPAQUE
SEQUENCE:0
UID:
DTSTAMP:20260425T104930Z
SUMMARY:Down East Bird Dawgs Star Wars Night 2026
DESCRIPTION:Please Note: This is an official LFL event.  LFL events are handled differently than other events.  In order to ensure that we adhere to all LFL rules and guidelines, ONLY sign up here if you plan to attend in an approved 501st costume.  If you will be wearing a costume from another organization, sign up with that organization so that we can plan for limited numbers and ensure that all are trooping with an approved costume. Feel free to leave a comment if you are planning on attending under a different organization. 
Thank you

Down East Bird Dawgs Star Wars Night 2026

Location: Down East Bird Dawgs- 400 E Grainger Avenue, Kinston NC 28501
Parking location and details: Plenty of parking at Grainger Stadium
Event date: Friday, May 15, 2026
Event start time & approx. end time:  6:00pm-8pm
Call time: 5:00pm
Changing room details: Front offices
Maximum number invited: 50
RSVP by date: May 10, 2026
PRIORITY:1
CLASS:PUBLIC
BEGIN:VALARM
TRIGGER:-PT10080M
ACTION:DISPLAY
DESCRIPTION:Reminder
END:VALARM
END:VEVENT
END:VCALENDAR
