BEGIN:VCALENDAR
VERSION:2.0
METHOD:PUBLISH
BEGIN:VEVENT
DTSTART:20260511T220000Z
DTEND:20260512T000000Z
LOCATION:1001 Mason Rd 1001 Mason Road Durham NC 27712 
TRANSP: OPAQUE
SEQUENCE:0
UID:
DTSTAMP:20260425T105122Z
SUMMARY:Cub Scout Pack 405 Blue & Gold/Boy Scout Court of Honor Ceremony
DESCRIPTION:Our Cub Scout Pack & Boy Scout Troop hold a joint annual Blue & Gold/Court of Honor ceremony as the boys level up in rank. (This year's theme was Harry Potter.) We'd love to have a Star Wars theme next year! In searching online for ideas, we found your group. I'm not sure if our event/size meets criteria for your attendance, but we would LOVE to host you!
PRIORITY:1
CLASS:PUBLIC
BEGIN:VALARM
TRIGGER:-PT10080M
ACTION:DISPLAY
DESCRIPTION:Reminder
END:VALARM
END:VEVENT
END:VCALENDAR
