BEGIN:VCALENDAR
VERSION:2.0
METHOD:PUBLISH
BEGIN:VEVENT
DTSTART:20250413T150000Z
DTEND:20250413T210000Z
LOCATION:170 W Ninth St 170 West Ninth Street Winston-Salem NC 27101 
TRANSP: OPAQUE
SEQUENCE:0
UID:
DTSTAMP:20260425T104035Z
SUMMARY:Comicade 2025
DESCRIPTION:Venue:  The Ramkat

A comic and collectible convention with local artist and a cosplay contest called the comicade cup. Would love to have any of you participate in the contest
PRIORITY:1
CLASS:PUBLIC
BEGIN:VALARM
TRIGGER:-PT10080M
ACTION:DISPLAY
DESCRIPTION:Reminder
END:VALARM
END:VEVENT
END:VCALENDAR
