BEGIN:VCALENDAR
VERSION:2.0
METHOD:PUBLISH
BEGIN:VEVENT
DTSTART:20250719T130000Z
DTEND:20250719T190000Z
LOCATION:1800 E Marion St 1800 East Marion Street Shelby NC 28152 
TRANSP: OPAQUE
SEQUENCE:0
UID:
DTSTAMP:20260425T112656Z
SUMMARY:Collector’s Vault Shelby Toy and Collectibles Con
DESCRIPTION:Toy and Collectibles Con at the The LeGrand Center in Shelby! We will have over 100 tables of a variety of collectibles for sell and a cosplay contest at 1PM
PRIORITY:1
CLASS:PUBLIC
BEGIN:VALARM
TRIGGER:-PT10080M
ACTION:DISPLAY
DESCRIPTION:Reminder
END:VALARM
END:VEVENT
END:VCALENDAR
