BEGIN:VCALENDAR
VERSION:2.0
METHOD:PUBLISH
BEGIN:VEVENT
DTSTART:20250327T210000Z
DTEND:20250327T230000Z
LOCATION:2382 Firetower Rd 2382 Firetower Road Rock Hill SC 29730 
TRANSP: OPAQUE
SEQUENCE:0
UID:
DTSTAMP:20260425T105046Z
SUMMARY:CHMS "Heritage in Me" Heritage Festival
DESCRIPTION:The Heritage Festival is a community celebration of the diversity in our school. We will have a pop-up market, food trucks, the Anne Frank Traveling Museum, and community members with displays on tables to showcase what they do.

PRIORITY:1
CLASS:PUBLIC
BEGIN:VALARM
TRIGGER:-PT10080M
ACTION:DISPLAY
DESCRIPTION:Reminder
END:VALARM
END:VEVENT
END:VCALENDAR
