BEGIN:VCALENDAR
VERSION:2.0
METHOD:PUBLISH
BEGIN:VEVENT
DTSTART:20260228T150000Z
DTEND:20260228T173000Z
LOCATION:Prisma Health Children's Hospital–Upstate 701 Grove Road Greenville SC 29605 
TRANSP: OPAQUE
SEQUENCE:0
UID:
DTSTAMP:20260425T105051Z
SUMMARY:Children’s Hospital visit - Greensville
DESCRIPTION:Prisma Children’s Hospital in Greensville SC visit- room to room visiting children
PRIORITY:1
CLASS:PUBLIC
BEGIN:VALARM
TRIGGER:-PT10080M
ACTION:DISPLAY
DESCRIPTION:Reminder
END:VALARM
END:VEVENT
END:VCALENDAR
