BEGIN:VCALENDAR
VERSION:2.0
METHOD:PUBLISH
BEGIN:VEVENT
DTSTART:20251219T180000Z
DTEND:20251219T210000Z
LOCATION:200 Hawthorne Ln 200 Hawthorne Lane Charlotte NC 28204 
TRANSP: OPAQUE
SEQUENCE:0
UID:
DTSTAMP:20260425T105121Z
SUMMARY:Children's Hospital Visit at Presbyterian/Novant Health Medical Center
DESCRIPTION:We have been invited back for a children's hospital visit at the Presbyterian Health Center in Charlotte!  Unfortunately, we are only allowed four characters, but any and all types of characters are welcome.
PRIORITY:1
CLASS:PUBLIC
BEGIN:VALARM
TRIGGER:-PT10080M
ACTION:DISPLAY
DESCRIPTION:Reminder
END:VALARM
END:VEVENT
END:VCALENDAR
