BEGIN:VCALENDAR
VERSION:2.0
METHOD:PUBLISH
BEGIN:VEVENT
DTSTART:20251018T113000Z
DTEND:20251018T163000Z
LOCATION:15025 Bowl St 15025 Bowl Street Charlotte NC 28277 
TRANSP: OPAQUE
SEQUENCE:0
UID:
DTSTAMP:20260425T104140Z
SUMMARY:Charlotte Vision Walk
DESCRIPTION: VisionWalk is a signature fundraising event of the Foundation Fighting Blindness, a 501(c)(3) tax-exempt organization. Over 10 Million Americans are affected by blinding diseases including macular degeneration, retinitis pigmentosa and Usher syndrome. The Foundation Fighting Blindness is driving the research to find treatments and cures for these diseases. By funding leading edge research in areas such as genetics, gene therapy, transplantation, artificial retinal implants and pharmaceutical and nutritional therapies, the Foundation Fighting Blindness is making a difference today to make the world a brighter place for those impacted by blinding diseases.
PRIORITY:1
CLASS:PUBLIC
BEGIN:VALARM
TRIGGER:-PT10080M
ACTION:DISPLAY
DESCRIPTION:Reminder
END:VALARM
END:VEVENT
END:VCALENDAR
