BEGIN:VCALENDAR
VERSION:2.0
METHOD:PUBLISH
BEGIN:VEVENT
DTSTART:20251207T150000Z
DTEND:20251207T210000Z
LOCATION:2800 Coliseum Centre Dr 2800 Coliseum Centre Drive Charlotte NC 28217 
TRANSP: OPAQUE
SEQUENCE:0
UID:
DTSTAMP:20260425T104634Z
SUMMARY:Charlotte Comicon - Winter 2025
DESCRIPTION:Venue: Charlotte Hilton Airport Hotel

Thousands and thousands of comics and toys. The most comic book dealers that you will see at a one day show. Cosplay contest with $500 in total prizes. CBCS will be at the show accepting submissions. Hope to see you there!
PRIORITY:1
CLASS:PUBLIC
BEGIN:VALARM
TRIGGER:-PT10080M
ACTION:DISPLAY
DESCRIPTION:Reminder
END:VALARM
END:VEVENT
END:VCALENDAR
