BEGIN:VCALENDAR
VERSION:2.0
METHOD:PUBLISH
BEGIN:VEVENT
DTSTART:20260321T180000Z
DTEND:20260321T223000Z
LOCATION:2700 E Independence Blvd 2700 East Independence Boulevard Charlotte NC 28205 
TRANSP: OPAQUE
SEQUENCE:0
UID:
DTSTAMP:20260425T104739Z
SUMMARY:Charlotte Checkers Star Wars Night
DESCRIPTION:Please Note: This is an official LFL event.  LFL events are handled differently than other events.  In order to ensure that we adhere to all LFL rules and guidelines, ONLY sign up here if you plan to attend in an approved 501st costume.  If you will be wearing a costume from another organization, sign up with that organization so that we can plan for limited numbers and ensure that all are trooping with an approved costume. Feel free to leave a comment if you are planning on attending under a different organization. 
Thank you

Charlotte Checkers Star Wars Night

Location: Bojangles Coliseum, 2700 E. Independence Blvd., Charlotte NC 28205

Parking location and details: Main lot of Bojangles Coliseum (free to public)

Event date: Saturday, March 21, 2026

Event start time & approx. end time: 4-630pm

Call time: (Should be 1 hour prior to game start or doors open): 2pm

Changing room details: TBD closer to event date

Maximum number invited: No max

RSVP contact: Paul Branecky | paulbranecky@charlottecheckers.com | (919) 260-6578

RSVP by date: March 13
PRIORITY:1
CLASS:PUBLIC
BEGIN:VALARM
TRIGGER:-PT10080M
ACTION:DISPLAY
DESCRIPTION:Reminder
END:VALARM
END:VEVENT
END:VCALENDAR
