BEGIN:VCALENDAR
VERSION:2.0
METHOD:PUBLISH
BEGIN:VEVENT
DTSTART:20251018T100000Z
DTEND:20251018T160000Z
LOCATION:2102 Stantonsburg Rd 2102 Stantonsburg Road Greenville NC 27834 
TRANSP: OPAQUE
SEQUENCE:0
UID:
DTSTAMP:20260425T105058Z
SUMMARY:Ronald McDonald House Breakfast
DESCRIPTION:This event is breakfast with families and there children at the Ronald McDonald House in Maynard Children's Hospital.
25 Total Spots.  

13Oct25: We can go above 10 as RL has none signed up.
PRIORITY:1
CLASS:PUBLIC
BEGIN:VALARM
TRIGGER:-PT10080M
ACTION:DISPLAY
DESCRIPTION:Reminder
END:VALARM
END:VEVENT
END:VCALENDAR
