BEGIN:VCALENDAR
VERSION:2.0
METHOD:PUBLISH
BEGIN:VEVENT
DTSTART:20250504T231500Z
DTEND:20250320T003000Z
LOCATION:133 W Franklin St 133 West Franklin Street Chapel Hill NC 27516 
TRANSP: OPAQUE
SEQUENCE:0
UID:
DTSTAMP:20260420T153710Z
SUMMARY:Chapel Hill Movies Under the Stars - Star Wars: ANH
DESCRIPTION:Venue:  Carolina Square in Downtown Chapel Hill

The Town of Chapel Hill is hosting an outdoor showing of Star Wars: A New Hope on Sunday, May 4 from 7:30 PM to 10:30 PM. We plan to have Star Wars Trivia for attendees from 8:00 PM to 8:30 PM and start the movie at 8:30 PM. We also plan to give out free Star Wars comic books to all attendees. We'd love to have some characters onsite to take pictures with attendees from 7:30 PM to 8:30 PM.
PRIORITY:1
CLASS:PUBLIC
BEGIN:VALARM
TRIGGER:-PT10080M
ACTION:DISPLAY
DESCRIPTION:Reminder
END:VALARM
END:VEVENT
END:VCALENDAR
