BEGIN:VCALENDAR
VERSION:2.0
METHOD:PUBLISH
BEGIN:VEVENT
DTSTART:20260110T150000Z
DTEND:20260110T220000Z
LOCATION: 1200 Rosewood Drive Columbia SC 29201 
TRANSP: OPAQUE
SEQUENCE:0
UID:
DTSTAMP:20260424T131833Z
SUMMARY:Central Carolina Comic Con
DESCRIPTION:Two day, family friendly, pop culture event featuring multiple vendors, artists, community groups, and celebrities.
PRIORITY:1
CLASS:PUBLIC
BEGIN:VALARM
TRIGGER:-PT10080M
ACTION:DISPLAY
DESCRIPTION:Reminder
END:VALARM
END:VEVENT
END:VCALENDAR
