BEGIN:VCALENDAR
VERSION:2.0
METHOD:PUBLISH
BEGIN:VEVENT
DTSTART:20241005T140000Z
DTEND:20241005T200000Z
LOCATION:107 E Academy St 107 East Academy Street Fuquay-Varina NC 27526 
TRANSP: OPAQUE
SEQUENCE:0
UID:
DTSTAMP:20260423T090024Z
SUMMARY:Celebrate Fuquay-Varina
DESCRIPTION:Join us for the Celebrate Fuquay-Varina Festival on Saturday, October 5th, from 10:00 am to 4:00 pm in Downtown Fuquay-Varina. 

A dash more festive...live entertainment, craft beer, food trucks, arts & crafts, a free kids zone, and YOU!
PRIORITY:1
CLASS:PUBLIC
BEGIN:VALARM
TRIGGER:-PT10080M
ACTION:DISPLAY
DESCRIPTION:Reminder
END:VALARM
END:VEVENT
END:VCALENDAR
