BEGIN:VCALENDAR
VERSION:2.0
METHOD:PUBLISH
BEGIN:VEVENT
DTSTART:20250503T150000Z
DTEND:20250503T183000Z
LOCATION:300 E Rutledge Ave 300 East Rutledge Avenue Gaffney SC 29340 
TRANSP: OPAQUE
SEQUENCE:0
UID:
DTSTAMP:20260425T104802Z
SUMMARY:Celebrate a Galaxy Far, Far Away!
DESCRIPTION:We will do story time for any younger patrons in attendance, followed by a "Build your own lightsaber" craft with pool noodles and decorative tape, followed by one or all of the performers telling patrons about their love for Star Wars, how they got into cosplaying and how to create their own weapons and costumes. Finally, we would have a showing of "Star Wars Episode III: Revenge of the Sith" to coincide with the films 20th anniversary.
PRIORITY:1
CLASS:PUBLIC
BEGIN:VALARM
TRIGGER:-PT10080M
ACTION:DISPLAY
DESCRIPTION:Reminder
END:VALARM
END:VEVENT
END:VCALENDAR
