BEGIN:VCALENDAR
VERSION:2.0
METHOD:PUBLISH
BEGIN:VEVENT
DTSTART:20231111T140000Z
DTEND:20231111T223000Z
LOCATION:16445 Poplar Tent Rd 16445 Poplar Tent Road Huntersville NC 28078 
TRANSP: OPAQUE
SEQUENCE:0
UID:
DTSTAMP:20260424T084135Z
SUMMARY:Carolina Renaissance Festival - Time Traveler's Weekend
DESCRIPTION:You donâ€™t need a passport to Time Travel, as Star Wars travels back in time on a Purrgil to the 16th Century! Blasters vs. Swords, Jet Packs vs. Stallions What could be better???

Time travel to the greatest party since Camelot! Enjoy an outdoor autumn stroll through the Village of Fairhaven where history comes alive with non-stop, day-long, immersive and interactive entertainments! The open air Artisan Market is filled with arts and crafts, games and rides, jousting knights on horseback, falconry, mermaids, fairies, dragons, feasting and so much more!

Glass blowing, blacksmithing, cobblers, potters, candle makers, sculpting, leather work, jewelry and much more! The open air Artisan Marketplace features over 140 vendors displaying a variety of unique, hand-made wares. Itâ€™s a shopperâ€™s paradise! With the holiday season just around the corner, the village Artisan Marketplace is the destination for an endless array of unique, one-of-a-kind gifts!
PRIORITY:1
CLASS:PUBLIC
BEGIN:VALARM
TRIGGER:-PT10080M
ACTION:DISPLAY
DESCRIPTION:Reminder
END:VALARM
END:VEVENT
END:VCALENDAR
