BEGIN:VCALENDAR
VERSION:2.0
METHOD:PUBLISH
BEGIN:VEVENT
DTSTART:20260221T150000Z
DTEND:20260221T220000Z
LOCATION:176 Patriots Point Rd 176 Patriots Point Road Mount Pleasant SC 29464 
TRANSP: OPAQUE
SEQUENCE:0
UID:
DTSTAMP:20260424T131812Z
SUMMARY:Captain's Comic Expo 2026
DESCRIPTION:CAPTAIN’S COMICS AND TOYS is proud to present the 18TH ANNUAL CAPTAIN’S COMIC EXPO! The 2026 Expo is BIGGER THAN EVER, with a 17,000 square foot venue, and TWO FULL DAYS of comics, toys, art, costumes, special guests and more! 
PRIORITY:1
CLASS:PUBLIC
BEGIN:VALARM
TRIGGER:-PT10080M
ACTION:DISPLAY
DESCRIPTION:Reminder
END:VALARM
END:VEVENT
END:VCALENDAR
