BEGIN:VCALENDAR
VERSION:2.0
METHOD:PUBLISH
BEGIN:VEVENT
DTSTART:20251004T130000Z
DTEND:20251004T160000Z
LOCATION:2149 Carolina Beach Rd 2149 Carolina Beach Road Wilmington NC 28412 
TRANSP: OPAQUE
SEQUENCE:0
UID:
DTSTAMP:20260425T104156Z
SUMMARY:Cape Fear Buddy Walk 2025
DESCRIPTION:Cape Fear Buddy Walk. We are hosting an awareness and advocacy walk for individuals with Down Syndrome. 
I believe you donated services to our event last year. 
I would love to talk about you all coming back again this year!!
PRIORITY:1
CLASS:PUBLIC
BEGIN:VALARM
TRIGGER:-PT10080M
ACTION:DISPLAY
DESCRIPTION:Reminder
END:VALARM
END:VEVENT
END:VCALENDAR
