BEGIN:VCALENDAR
VERSION:2.0
METHOD:PUBLISH
BEGIN:VEVENT
DTSTART:20250926T230000Z
DTEND:20250927T003000Z
LOCATION:275 Carefree Ln 275 Carefree Lane Stokesdale NC 27357 
TRANSP: OPAQUE
SEQUENCE:0
UID:
DTSTAMP:20260425T104121Z
SUMMARY:Camp Thrive 2025
DESCRIPTION:I’m reaching out on behalf of the Brain Injury Association of North Carolina (BIANC), a nonprofit supporting individuals with brain injuries. We’re hosting a weekend camp from **September 26–28, 2025**, and would love to invite members of the 501st Legion to visit in costume.
Camp Thrive Together is a weekend retreat for adults (18+) living with brain injury, as well as their caregivers and family members. It’s truly a special and heartwarming event.

Campers check in on Friday at 3:00 PM, followed by a Taco Party dinner at 5:00 PM. That evening, we kick things off with a Tropical-Themed Dance from 7:00–9:00 PM. Last year we had a surprise visit from some pirates—it was a huge hit!

Our program director recently saw some of your team at an event in Raleigh and immediately thought you'd be a perfect surprise addition for this year's campers. We welcome people from all walks of life and all parts of the brain injury community, and the joy and energy brought by special guests like you really make a difference.
Your appearance would mean so much to our campers and bring a lot of joy to the event.  We would want you to come on Friday evening for our welcome dance event.  Saturday, we have activities planned, but we could try to work around the schedule as they would all enjoy your visit.
PRIORITY:1
CLASS:PUBLIC
BEGIN:VALARM
TRIGGER:-PT10080M
ACTION:DISPLAY
DESCRIPTION:Reminder
END:VALARM
END:VEVENT
END:VCALENDAR
