BEGIN:VCALENDAR
VERSION:2.0
METHOD:PUBLISH
BEGIN:VEVENT
DTSTART:20251205T233000Z
DTEND:20251206T024500Z
LOCATION:57 Hasell St 57 Hasell Street Charleston SC 29401 
TRANSP: OPAQUE
SEQUENCE:0
UID:
DTSTAMP:20260425T104147Z
SUMMARY:Buddy's Big City Tree Lighting
DESCRIPTION: Buddy's Big City Tree lighting @ The Charleston City Market
The Charleston City Market is organizing its annual tree lighting event on Friday, December 5th, as part of the Night Market. Some years ago the Troopers showed up for the event and it was wonderful.   Our theme this year is centered around Buddy the Elf, and we intend to create a festive atmosphere with snow. We hope to recreate the enchantment of past Christmas celebrations and offer an evening photo opportunity featuring cherished characters from previous years, including Storm Troopers and other Star wars characters, Chewy was a big hit. I have A short video highlighting Christmas celebrations from past. If you choose to participate, we would be love to mention your involvement in our press releases. Palmetto Carriage will be providing a horse-drawn carriage for the event. We invite any additional suggestions or proposals for participation you may have.
Referred by:  Google and some Troopers and characters from Star wars showed up at one of our Christmas Tree events, pre-covid.
PRIORITY:1
CLASS:PUBLIC
BEGIN:VALARM
TRIGGER:-PT10080M
ACTION:DISPLAY
DESCRIPTION:Reminder
END:VALARM
END:VEVENT
END:VCALENDAR
