BEGIN:VCALENDAR
VERSION:2.0
METHOD:PUBLISH
BEGIN:VEVENT
DTSTART:20250503T130000Z
DTEND:20250503T160000Z
LOCATION:1054 E Butler Rd 1054 East Butler Road Greenville SC 29607 
TRANSP: OPAQUE
SEQUENCE:0
UID:
DTSTAMP:20260425T110911Z
SUMMARY:Bricks & Minifigs May the 4th!
DESCRIPTION:Bricks and Minifigs Greenville have invited us back to join them for May the 4th where they will be hosting a Toy Drive for United Way!
As apart of their Star Wars Event, Characters will be doing a meet-and-greet and photo session with attendees.

At 10:30am there will also be a visit by the Mauldin Police Dog along with voting on Star Wars Themed Lego MOCs submitted previously by patrons.
PRIORITY:1
CLASS:PUBLIC
BEGIN:VALARM
TRIGGER:-PT10080M
ACTION:DISPLAY
DESCRIPTION:Reminder
END:VALARM
END:VEVENT
END:VCALENDAR
