BEGIN:VCALENDAR
VERSION:2.0
METHOD:PUBLISH
BEGIN:VEVENT
DTSTART:20251221T160000Z
DTEND:20251221T200000Z
LOCATION:206 Fayetteville St 206 Fayetteville Street Raleigh NC 27601 
TRANSP: OPAQUE
SEQUENCE:0
UID:
DTSTAMP:20260425T155416Z
SUMMARY:Bricks & Minifigs Downtown Raleigh 1 Year Celebration
DESCRIPTION:We were thrilled to have the 501 join us for our grand opening last year, and would love to host y'all again for our 1 year anniversary!
PRIORITY:1
CLASS:PUBLIC
BEGIN:VALARM
TRIGGER:-PT10080M
ACTION:DISPLAY
DESCRIPTION:Reminder
END:VALARM
END:VEVENT
END:VCALENDAR
