BEGIN:VCALENDAR
VERSION:2.0
METHOD:PUBLISH
BEGIN:VEVENT
DTSTART:20250628T130000Z
DTEND:20250628T210000Z
LOCATION:500 S Salisbury St 500 South Salisbury Street Raleigh NC 27601 
TRANSP: OPAQUE
SEQUENCE:0
UID:
DTSTAMP:20260420T183038Z
SUMMARY:Brick Universe Raleigh 2025
DESCRIPTION:Venue:  Raleigh Convention Center

This is a LEGO® Fan Expo
PRIORITY:1
CLASS:PUBLIC
BEGIN:VALARM
TRIGGER:-PT10080M
ACTION:DISPLAY
DESCRIPTION:Reminder
END:VALARM
END:VEVENT
END:VCALENDAR
