BEGIN:VCALENDAR
VERSION:2.0
METHOD:PUBLISH
BEGIN:VEVENT
DTSTART:20251205T170000Z
DTEND:20251205T230000Z
LOCATION:1025 Blue Ridge Rd 1025 Blue Ridge Road Raleigh NC 27607 
TRANSP: OPAQUE
SEQUENCE:0
UID:
DTSTAMP:20260425T104930Z
SUMMARY:Brick Fest Live x Jurassic Quest 2025 Raleigh
DESCRIPTION:Event Name:  The Ultimate Family Adventure
Venue:  NC State Fairgrounds

Brick Fest Live x Jurassic Quest is an exciting, family-friendly mega event that brings together two immersive experiences under one roof. Guests can explore the awe-inspiring world of life-size animatronic dinosaurs with Jurassic Quest, while also diving into hands-on creative play, massive LEGO® builds, and interactive exhibits at Brick Fest Live.
With something for dino lovers and brick builders of all ages, this combined event offers a unique blend of education, imagination, and fun—perfect for families, fans, and curious minds alike.
PRIORITY:1
CLASS:PUBLIC
BEGIN:VALARM
TRIGGER:-PT10080M
ACTION:DISPLAY
DESCRIPTION:Reminder
END:VALARM
END:VEVENT
END:VCALENDAR
