BEGIN:VCALENDAR
VERSION:2.0
METHOD:PUBLISH
BEGIN:VEVENT
DTSTART:20231209T140000Z
DTEND:20231209T220000Z
LOCATION:4285 Trinity Rd 4285 Trinity Road Raleigh NC 27607 
TRANSP: OPAQUE
SEQUENCE:0
UID:
DTSTAMP:20260424T171933Z
SUMMARY:Brick Fest Live - Raleigh
DESCRIPTION:Brick Fest Live is a massive family event geared toward entertainment for all ages.  We have Life-Size Models, Building Activities, Photo Ops, and Exclusive Merch.  
Due to the popularity of Lego Star Wars, I believe you all are the perfect fit for our event.

This is a Two day event on:  
Saturday  (12/9) 9am-5pm 
Sunday (12/10) from 10am-4pm

We'll have a 20x10 ft booth space, with that same amount of room behind the booth for changing, breaks, etc.  Feel free to bring table props.
Graham Building.
PRIORITY:1
CLASS:PUBLIC
BEGIN:VALARM
TRIGGER:-PT10080M
ACTION:DISPLAY
DESCRIPTION:Reminder
END:VALARM
END:VEVENT
END:VCALENDAR
