BEGIN:VCALENDAR
VERSION:2.0
METHOD:PUBLISH
BEGIN:VEVENT
DTSTART:20241012T130000Z
DTEND:20241012T210000Z
LOCATION:Charleston Area Convention Center 5001 Coliseum Drive North Charleston SC 29418 
TRANSP: OPAQUE
SEQUENCE:0
UID:
DTSTAMP:20260424T085645Z
SUMMARY:Brick Fest Live- Charleston SC
DESCRIPTION:Expected number of attendees:  8000
Requested number of characters: 
Requested character types:
Secure changing/staging area: Yes
Can troopers carry blasters: Yes
Can troopers carry/bring props like lightsabers and staffs: Yes
Is parking available: Yes
Is venue accessible to those with limited mobility: Yes
Amenities available at venue: the 501st will have a 10'x20' booth with two tables and 3 chairs.  The 501st group can use this as home base and set it up however you would like. 
Directly behind the booth there will be another 10'x20' of space enclosed for changing and storage.  This area will have an additional table and three chairs.  Only the 501st will have access to this area.  Water will be provided.

Comments: Brick Fest Live is a massive family event geared toward entertainment for all ages.  We have Life-Size Models, Building Activities, Photo Ops, and Exclusive Merch.  Due to the popularity of Lego Star Wars, I believe you all are the perfect fit for our event.

Event Beginning Date (10/12/24)
Event Ending Date (10/13/24)
The event is on Saturday from 9am-5pm and on Sunday from 10am-4pm

PRIORITY:1
CLASS:PUBLIC
BEGIN:VALARM
TRIGGER:-PT10080M
ACTION:DISPLAY
DESCRIPTION:Reminder
END:VALARM
END:VEVENT
END:VCALENDAR
