BEGIN:VCALENDAR
VERSION:2.0
METHOD:PUBLISH
BEGIN:VEVENT
DTSTART:20250927T140000Z
DTEND:20250927T170000Z
LOCATION:1960 Coliseum Dr 1960 Coliseum Drive Fayetteville NC 28306 
TRANSP: OPAQUE
SEQUENCE:0
UID:
DTSTAMP:20260425T104929Z
SUMMARY:Brick Convention Fayetteville 2025
DESCRIPTION:Biggest Lego Convention in the Country!

Venue:  Crown Complex

20 Total Slots: CG has 8, RL & MM have 12 to split.  If they don't use all theirs, we can reclaim.
Each day split into 2 sessions.
REMEMBER: If you want to troop the entire day, please sign up for BOTH SESSIONS that day!
PRIORITY:1
CLASS:PUBLIC
BEGIN:VALARM
TRIGGER:-PT10080M
ACTION:DISPLAY
DESCRIPTION:Reminder
END:VALARM
END:VEVENT
END:VCALENDAR
