BEGIN:VCALENDAR
VERSION:2.0
METHOD:PUBLISH
BEGIN:VEVENT
DTSTART:20250719T170000Z
DTEND:20250719T200000Z
LOCATION:Buffaloe Lanes South Family Bowling Center 6701 Fayetteville Road Raleigh NC 27603 
TRANSP: OPAQUE
SEQUENCE:0
UID:
DTSTAMP:20260425T104802Z
SUMMARY:Bowling for Goldflame (Special Olympics NC)
DESCRIPTION:Fuquay Varina Police Department is hosting a bowling tournament for Special Olympics It is open to all ages.

They are in need of more teams to sign up but would love to have the 501st come out and make an appearance.

All proceeds go to Special Olympics North Carolina.
PRIORITY:1
CLASS:PUBLIC
BEGIN:VALARM
TRIGGER:-PT10080M
ACTION:DISPLAY
DESCRIPTION:Reminder
END:VALARM
END:VEVENT
END:VCALENDAR
