BEGIN:VCALENDAR
VERSION:2.0
METHOD:PUBLISH
BEGIN:VEVENT
DTSTART:20251004T140000Z
DTEND:20251004T210000Z
LOCATION:South Carolina Hall Of Fame 2101 North Oak Street Myrtle Beach SC 29577 
TRANSP: OPAQUE
SEQUENCE:0
UID:
DTSTAMP:20260425T110734Z
SUMMARY:Boardwalk Comic Con
DESCRIPTION:Come join us for the premiere comic con of Myrtle Beach SC.
Boardwalk Comic Con is the premier comic event in Myrtle Beach! Featuring over 150 artists, vendors, guests, and cosplayers, there’s something for everyone in the family. Join us and experience the excitement of pop culture like never before!
Contact us at info@boardwalkcomiccon.com for vendor/artist registration but act fast because space is limited!
PRIORITY:1
CLASS:PUBLIC
BEGIN:VALARM
TRIGGER:-PT10080M
ACTION:DISPLAY
DESCRIPTION:Reminder
END:VALARM
END:VEVENT
END:VCALENDAR
