BEGIN:VCALENDAR
VERSION:2.0
METHOD:PUBLISH
BEGIN:VEVENT
DTSTART:20250504T170000Z
DTEND:20250504T210000Z
LOCATION:Colonial Heights Shopping Center 2713 East 10th Street Greenville NC 27858 
TRANSP: OPAQUE
SEQUENCE:0
UID:
DTSTAMP:20260424T143247Z
SUMMARY:Blue Ox Games - Learn to Play
DESCRIPTION:We are celebrating Star Wars day with learn to play events for Star Wars Unlimited and Star Wars Shatter point. We will also have sales on Star Wars merch and comics.
PRIORITY:1
CLASS:PUBLIC
BEGIN:VALARM
TRIGGER:-PT10080M
ACTION:DISPLAY
DESCRIPTION:Reminder
END:VALARM
END:VEVENT
END:VCALENDAR
