BEGIN:VCALENDAR
VERSION:2.0
METHOD:PUBLISH
BEGIN:VEVENT
DTSTART:20251004T140000Z
DTEND:20251004T210000Z
LOCATION:1921 W Gate City Blvd 1921 West Gate City Boulevard Greensboro NC 27403 
TRANSP: OPAQUE
SEQUENCE:0
UID:
DTSTAMP:20260424T142254Z
SUMMARY:Big Lick Comic Con 2025
DESCRIPTION:Venue:  Greensboro Coliseum

Big Lick Comic Con is a celebration of fandom and friends!
PRIORITY:1
CLASS:PUBLIC
BEGIN:VALARM
TRIGGER:-PT10080M
ACTION:DISPLAY
DESCRIPTION:Reminder
END:VALARM
END:VEVENT
END:VCALENDAR
