BEGIN:VCALENDAR
VERSION:2.0
METHOD:PUBLISH
BEGIN:VEVENT
DTSTART:20260314T130000Z
DTEND:20260314T190000Z
LOCATION:175 Bingham Rd 175 Bingham Road Asheville NC 28806 
TRANSP: OPAQUE
SEQUENCE:0
UID:
DTSTAMP:20260425T104140Z
SUMMARY:BCS STEAM Day
DESCRIPTION:Venue:  Nesbitt Discovery Academy

Buncombe County Schools is hosting BCS Celebrate STEAM on Saturday, March 14 (Pi Day!) from 9:00 a.m. to 3:00 p.m. at Nesbitt Discovery Academy. This free, family-friendly event is open to all BCS students and families in grades K–8.

Celebrate STEAM is a hands-on community event designed to spark curiosity and excitement around science, technology, engineering, art, and math. Families rotate through interactive stations, enjoy special programs, and connect with community partners in a fun, welcoming environment.

We would love to explore the possibility of having members of the 501st Legion attend and help make the day even more memorable for our students and families.

Thank you for considering, and we appreciate all you do for the community!
PRIORITY:1
CLASS:PUBLIC
BEGIN:VALARM
TRIGGER:-PT10080M
ACTION:DISPLAY
DESCRIPTION:Reminder
END:VALARM
END:VEVENT
END:VCALENDAR
