BEGIN:VCALENDAR
VERSION:2.0
METHOD:PUBLISH
BEGIN:VEVENT
DTSTART:20251024T230000Z
DTEND:20251025T003000Z
LOCATION:805 Cary Towne Blvd 805 Cary Towne Boulevard Cary NC 27511 
TRANSP: OPAQUE
SEQUENCE:0
UID:
DTSTAMP:20260425T104558Z
SUMMARY:Miracle League Baseball Bash - Cary 2025
DESCRIPTION:A Miracle League event is a joyful and inclusive baseball game where individuals with disabilities are paired with volunteer "buddies" to help them safely play and enjoy the game. Played on a custom, rubberized field, these games celebrate fun, teamwork, and community—every player gets a chance to hit, round the bases, and score, with every game ending in a tie so that everyone’s a winner.

As a volunteer character, you’ll be walking around the field in costume, cheering on our athletes, giving high fives, posing for photos, and helping create a festive atmosphere. It’s a fun, uplifting experience that brings big smiles and unforgettable memories to everyone involved!
PRIORITY:1
CLASS:PUBLIC
BEGIN:VALARM
TRIGGER:-PT10080M
ACTION:DISPLAY
DESCRIPTION:Reminder
END:VALARM
END:VEVENT
END:VCALENDAR
