BEGIN:VCALENDAR
VERSION:2.0
METHOD:PUBLISH
BEGIN:VEVENT
DTSTART:20250912T220000Z
DTEND:20250913T000000Z
LOCATION:5627 Poplin Rd 5627 Poplin Road Indian Trail NC 28079 
TRANSP: OPAQUE
SEQUENCE:0
UID:
DTSTAMP:20260425T104120Z
SUMMARY:Back to School Bash 2025
DESCRIPTION:Back to school bash. Vendors set up tents/ tables and showcase businesses.  We have entertainment for the kids and parents.  Connect with local families and get kids excited for back to school.
PRIORITY:1
CLASS:PUBLIC
BEGIN:VALARM
TRIGGER:-PT10080M
ACTION:DISPLAY
DESCRIPTION:Reminder
END:VALARM
END:VEVENT
END:VCALENDAR
