BEGIN:VCALENDAR
VERSION:2.0
METHOD:PUBLISH
BEGIN:VEVENT
DTSTART:20260516T140000Z
DTEND:20260516T230000Z
LOCATION:Trident Technical College 7000 Rivers Avenue North Charleston SC 29406 
TRANSP: OPAQUE
SEQUENCE:0
UID:
DTSTAMP:20260425T104024Z
SUMMARY:Atomacon 2026
DESCRIPTION:All Types of Media Arts Convention (ATOMACON) is a multi-genre, family friendly, Sci-Fi and Fantasy, Paranormal convention and Film Festival celebrating our 12th year.
PRIORITY:1
CLASS:PUBLIC
BEGIN:VALARM
TRIGGER:-PT10080M
ACTION:DISPLAY
DESCRIPTION:Reminder
END:VALARM
END:VEVENT
END:VCALENDAR
