BEGIN:VCALENDAR
VERSION:2.0
METHOD:PUBLISH
BEGIN:VEVENT
DTSTART:20250201T160000Z
DTEND:20250201T220000Z
LOCATION:46 Haywood St 46 Haywood Street Asheville NC 28801 
TRANSP: OPAQUE
SEQUENCE:0
UID:
DTSTAMP:20260424T143256Z
SUMMARY:Assembly Required Designer Toy Expo 2025
DESCRIPTION:Venue:  Battery Park Hall

2025 will be the seventh year for Asheville's premiere designer toy festival.

15 Slots Total Each Day:
4 Slots for CG
4 Slots for DD
4 Slots for RL
3 Slots for MM

If RL, DD, and/or MM do not use their slots, more for CG will open up about a week or two prior to the event.
PRIORITY:1
CLASS:PUBLIC
BEGIN:VALARM
TRIGGER:-PT10080M
ACTION:DISPLAY
DESCRIPTION:Reminder
END:VALARM
END:VEVENT
END:VCALENDAR
