BEGIN:VCALENDAR
VERSION:2.0
METHOD:PUBLISH
BEGIN:VEVENT
DTSTART:20260504T223000Z
DTEND:20260505T003000Z
LOCATION:419 McDowell St 419 McDowell Street Asheville NC 28803 
TRANSP: OPAQUE
SEQUENCE:0
UID:
DTSTAMP:20260425T105051Z
SUMMARY:Asheville Symphony Youth Orchestra Spring Concert 2026
DESCRIPTION:This is the Spring Concert for the Asheville Symphony Youth Orchestra. The ASYO has 180+ members across 6 ensembles and involves talented students from all over the region. When we realized we had scheduled our final concert for the season on May the Fourth we couldn't help but make the event Star Wars themed. Each orchestra will play some music from movies/shows, etc.
PRIORITY:1
CLASS:PUBLIC
BEGIN:VALARM
TRIGGER:-PT10080M
ACTION:DISPLAY
DESCRIPTION:Reminder
END:VALARM
END:VEVENT
END:VCALENDAR
