BEGIN:VCALENDAR
VERSION:2.0
METHOD:PUBLISH
BEGIN:VEVENT
DTSTART:20260418T140000Z
DTEND:20260418T190000Z
LOCATION:16 Fernihurst Dr 16 Fernihurst Drive Asheville NC 28801 
TRANSP: OPAQUE
SEQUENCE:0
UID:
DTSTAMP:20260425T104919Z
SUMMARY:Asheville Maker Faire 2026
DESCRIPTION:Maker Faire is the Greatest Show (and Tell) on Earth—a family-friendly festival of invention, creativity and resourcefulness, and a celebration of the Maker movement.

Venue:  AB Tech Conference Center in Asheville
PRIORITY:1
CLASS:PUBLIC
BEGIN:VALARM
TRIGGER:-PT10080M
ACTION:DISPLAY
DESCRIPTION:Reminder
END:VALARM
END:VEVENT
END:VCALENDAR
