BEGIN:VCALENDAR
VERSION:2.0
METHOD:PUBLISH
BEGIN:VEVENT
DTSTART:20241123T160000Z
DTEND:20241123T190000Z
LOCATION:80 Court Plaza 80 Court Plaza Asheville NC 28801 
TRANSP: OPAQUE
SEQUENCE:0
UID:
DTSTAMP:20260425T104929Z
SUMMARY:Asheville Holiday Jamboree 2024
DESCRIPTION:Venue:  Pack Square (Downtown)

The Asheville Holiday Jamboree will take place on Saturday, November 23, at 11am in Pack Square Park. This year, we're excited to celebrate with the theme Winter Wonderland with a designated public space vs a walking parade. This event is attended by various association, businesses, and school bands. We will have a market for local businesses and food trucks.
PRIORITY:1
CLASS:PUBLIC
BEGIN:VALARM
TRIGGER:-PT10080M
ACTION:DISPLAY
DESCRIPTION:Reminder
END:VALARM
END:VEVENT
END:VCALENDAR
