BEGIN:VCALENDAR
VERSION:2.0
METHOD:PUBLISH
BEGIN:VEVENT
DTSTART:20250628T140000Z
DTEND:20250629T010000Z
LOCATION:439 Sugar Cove Run 439 Sugar Cove Run Wilmington NC 28411 
TRANSP: OPAQUE
SEQUENCE:0
UID:
DTSTAMP:20260425T104739Z
SUMMARY:Armor Party in Wilmington
DESCRIPTION:Bring your stuff to work on. 
PRIORITY:1
CLASS:PUBLIC
BEGIN:VALARM
TRIGGER:-PT10080M
ACTION:DISPLAY
DESCRIPTION:Reminder
END:VALARM
END:VEVENT
END:VCALENDAR
