BEGIN:VCALENDAR
VERSION:2.0
METHOD:PUBLISH
BEGIN:VEVENT
DTSTART:20260425T133000Z
DTEND:20260425T160000Z
LOCATION:2011 Yearby Ave 2011 Yearby Avenue Durham NC 27705 
TRANSP: OPAQUE
SEQUENCE:0
UID:
DTSTAMP:20260425T104752Z
SUMMARY:Angels Among Us at Duke
DESCRIPTION:Angels Among Us at Duke- benefitting the Tisch Brain Tumor Center

Venue:  DUKE MEDICAL CENTER CAMPUS

ANNUAL 5K AND FAMILY FUN WALK TO BENEFIT THE TISCH BRAIN TUMOR CENTER
PRIORITY:1
CLASS:PUBLIC
BEGIN:VALARM
TRIGGER:-PT10080M
ACTION:DISPLAY
DESCRIPTION:Reminder
END:VALARM
END:VEVENT
END:VCALENDAR
